Package: interacCircos Version: 1.19.0 Command: /Library/Frameworks/R.framework/Resources/bin/R CMD check --install=check:interacCircos.install-out.txt --library=/Library/Frameworks/R.framework/Resources/library --no-vignettes --timings interacCircos_1.19.0.tar.gz StartedAt: 2025-10-19 23:13:09 -0400 (Sun, 19 Oct 2025) EndedAt: 2025-10-19 23:13:57 -0400 (Sun, 19 Oct 2025) EllapsedTime: 48.2 seconds RetCode: 0 Status: OK CheckDir: interacCircos.Rcheck Warnings: 0