Package: intansv Version: 1.50.0 Command: /Library/Frameworks/R.framework/Resources/bin/R CMD INSTALL intansv StartedAt: 2025-11-10 15:24:34 -0500 (Mon, 10 Nov 2025) EndedAt: 2025-11-10 15:24:55 -0500 (Mon, 10 Nov 2025) EllapsedTime: 21.0 seconds RetCode: 0 Status: OK