Package: intansv Version: 1.50.0 Command: /Library/Frameworks/R.framework/Resources/bin/R CMD check --install=check:intansv.install-out.txt --library=/Library/Frameworks/R.framework/Resources/library --no-vignettes --timings intansv_1.50.0.tar.gz StartedAt: 2025-11-10 20:36:45 -0500 (Mon, 10 Nov 2025) EndedAt: 2025-11-10 20:39:02 -0500 (Mon, 10 Nov 2025) EllapsedTime: 137.6 seconds RetCode: 0 Status: OK CheckDir: intansv.Rcheck Warnings: 0