Package: intansv Version: 1.50.0 Command: /Library/Frameworks/R.framework/Resources/bin/R CMD build --keep-empty-dirs --no-resave-data intansv StartedAt: 2025-11-10 16:47:15 -0500 (Mon, 10 Nov 2025) EndedAt: 2025-11-10 16:47:52 -0500 (Mon, 10 Nov 2025) EllapsedTime: 37.4 seconds RetCode: 0 Status: OK PackageFile: intansv_1.50.0.tar.gz PackageFileSize: 614.1 KiB