Package: intansv Version: 1.50.0 Command: rm -rf intansv.buildbin-libdir && mkdir intansv.buildbin-libdir && /Users/biocbuild/BBS/utils/build-universal.sh intansv_1.50.0.tar.gz /Library/Frameworks/R.framework/Resources/bin/R intansv.buildbin-libdir StartedAt: 2025-11-10 23:23:56 -0500 (Mon, 10 Nov 2025) EndedAt: 2025-11-10 23:24:18 -0500 (Mon, 10 Nov 2025) EllapsedTime: 22.4 seconds RetCode: 0 Status: OK PackageFile: intansv_1.50.0.tgz PackageFileSize: 710.1 KiB