Package: intansv Version: 1.50.0 Maintainer: Wen Yao MaintainerEmail: ywhzau at gmail.com git_url: https://git.bioconductor.org/packages/intansv git_branch: RELEASE_3_22 git_last_commit: 0bb1a74 git_last_commit_date: 2025-10-29 10:15:39 -0500 (Wed, 29 Oct 2025)