Package: infercnv Version: 1.25.0 Command: chmod a+r infercnv -R && F:\biocbuild\bbs-3.22-bioc\R\bin\R.exe CMD build --keep-empty-dirs --no-resave-data infercnv StartedAt: 2025-08-14 20:56:38 -0400 (Thu, 14 Aug 2025) EndedAt: 2025-08-14 20:57:05 -0400 (Thu, 14 Aug 2025) EllapsedTime: 26.3 seconds RetCode: 1 Status: ERROR PackageFile: None PackageFileSize: NA