Package: infercnv Version: 1.26.0 Command: /home/biocbuild/bbs-3.22-bioc/R/bin/R CMD INSTALL infercnv StartedAt: 2025-10-31 15:28:12 -0400 (Fri, 31 Oct 2025) EndedAt: 2025-10-31 15:29:02 -0400 (Fri, 31 Oct 2025) EllapsedTime: 50.7 seconds RetCode: 0 Status: OK