Package: infercnv Version: 1.25.0 Command: /Library/Frameworks/R.framework/Resources/bin/R CMD check --install=check:infercnv.install-out.txt --library=/Library/Frameworks/R.framework/Resources/library --no-vignettes --timings infercnv_1.25.0.tar.gz StartedAt: 2025-10-16 23:57:21 -0400 (Thu, 16 Oct 2025) EndedAt: 2025-10-17 00:06:10 -0400 (Fri, 17 Oct 2025) EllapsedTime: 528.6 seconds RetCode: 0 Status: OK CheckDir: infercnv.Rcheck Warnings: 0