Package: infercnv Version: 1.26.0 Command: /Library/Frameworks/R.framework/Resources/bin/R CMD INSTALL infercnv StartedAt: 2025-11-03 15:12:28 -0500 (Mon, 03 Nov 2025) EndedAt: 2025-11-03 15:12:47 -0500 (Mon, 03 Nov 2025) EllapsedTime: 18.8 seconds RetCode: 0 Status: OK