Package: infercnv Version: 1.26.0 Command: /Library/Frameworks/R.framework/Resources/bin/R CMD build --keep-empty-dirs --no-resave-data infercnv StartedAt: 2025-11-02 16:45:47 -0500 (Sun, 02 Nov 2025) EndedAt: 2025-11-02 16:46:35 -0500 (Sun, 02 Nov 2025) EllapsedTime: 47.5 seconds RetCode: 0 Status: OK PackageFile: infercnv_1.26.0.tar.gz PackageFileSize: 3.967 MiB