Package: impute Version: 1.83.0 Command: F:\biocbuild\bbs-3.22-bioc\R\bin\R.exe CMD check --no-multiarch --install=check:impute.install-out.txt --library=F:\biocbuild\bbs-3.22-bioc\R\library --no-vignettes --timings impute_1.83.0.tar.gz StartedAt: 2025-08-15 04:19:07 -0400 (Fri, 15 Aug 2025) EndedAt: 2025-08-15 04:19:33 -0400 (Fri, 15 Aug 2025) EllapsedTime: 25.6 seconds RetCode: 0 Status: WARNINGS CheckDir: impute.Rcheck Warnings: 1