Package: impute Version: 1.83.0 Command: chmod a+r impute -R && F:\biocbuild\bbs-3.22-bioc\R\bin\R.exe CMD build --keep-empty-dirs --no-resave-data impute StartedAt: 2025-08-14 20:56:22 -0400 (Thu, 14 Aug 2025) EndedAt: 2025-08-14 20:56:24 -0400 (Thu, 14 Aug 2025) EllapsedTime: 2.0 seconds RetCode: 0 Status: OK PackageFile: impute_1.83.0.tar.gz PackageFileSize: 626.6 KiB