Package: impute Version: 1.83.0 Command: rm -rf impute.buildbin-libdir && mkdir impute.buildbin-libdir && F:\biocbuild\bbs-3.22-bioc\R\bin\R.exe CMD INSTALL --build --library=impute.buildbin-libdir impute_1.83.0.tar.gz StartedAt: 2025-08-15 10:30:27 -0400 (Fri, 15 Aug 2025) EndedAt: 2025-08-15 10:30:43 -0400 (Fri, 15 Aug 2025) EllapsedTime: 15.7 seconds RetCode: 0 Status: OK PackageFile: impute_1.83.0.zip PackageFileSize: 652.3 KiB