Package: impute Version: 1.83.0 Command: /home/biocbuild/bbs-3.22-bioc/R/bin/R CMD INSTALL impute StartedAt: 2025-10-02 15:02:52 -0400 (Thu, 02 Oct 2025) EndedAt: 2025-10-02 15:03:01 -0400 (Thu, 02 Oct 2025) EllapsedTime: 9.1 seconds RetCode: 0 Status: OK