Package: impute Version: 1.83.0 Command: /home/biocbuild/bbs-3.22-bioc/R/bin/R CMD check --install=check:impute.install-out.txt --library=/home/biocbuild/bbs-3.22-bioc/R/site-library --timings impute_1.83.0.tar.gz StartedAt: 2025-10-03 00:48:34 -0400 (Fri, 03 Oct 2025) EndedAt: 2025-10-03 00:48:48 -0400 (Fri, 03 Oct 2025) EllapsedTime: 14.0 seconds RetCode: 0 Status: WARNINGS CheckDir: impute.Rcheck Warnings: 1