Package: impute Version: 1.83.0 Command: /Library/Frameworks/R.framework/Resources/bin/R CMD check --install=check:impute.install-out.txt --library=/Library/Frameworks/R.framework/Resources/library --no-vignettes --timings impute_1.83.0.tar.gz StartedAt: 2025-10-03 22:17:25 -0400 (Fri, 03 Oct 2025) EndedAt: 2025-10-03 22:17:52 -0400 (Fri, 03 Oct 2025) EllapsedTime: 26.4 seconds RetCode: 0 Status: WARNINGS CheckDir: impute.Rcheck Warnings: 1