Package: impute Version: 1.83.0 Command: /Library/Frameworks/R.framework/Resources/bin/R CMD build --keep-empty-dirs --no-resave-data impute StartedAt: 2025-10-03 17:28:14 -0400 (Fri, 03 Oct 2025) EndedAt: 2025-10-03 17:28:19 -0400 (Fri, 03 Oct 2025) EllapsedTime: 4.8 seconds RetCode: 0 Status: OK PackageFile: impute_1.83.0.tar.gz PackageFileSize: 626.6 KiB