Package: impute Version: 1.83.0 Command: rm -rf impute.buildbin-libdir && mkdir impute.buildbin-libdir && /Users/biocbuild/BBS/utils/build-universal.sh impute_1.83.0.tar.gz /Library/Frameworks/R.framework/Resources/bin/R impute.buildbin-libdir StartedAt: 2025-10-04 02:10:58 -0400 (Sat, 04 Oct 2025) EndedAt: 2025-10-04 02:11:12 -0400 (Sat, 04 Oct 2025) EllapsedTime: 14.0 seconds RetCode: 0 Status: OK PackageFile: impute_1.83.0.tgz PackageFileSize: 646.2 KiB