Package: immunogenViewer Version: 1.3.1 Command: /home/biocbuild/R/R/bin/R CMD INSTALL immunogenViewer StartedAt: 2025-10-20 20:46:38 -0000 (Mon, 20 Oct 2025) EndedAt: 2025-10-20 20:46:58 -0000 (Mon, 20 Oct 2025) EllapsedTime: 20.2 seconds RetCode: 0 Status: OK