Package: immunogenViewer Version: 1.3.1 Command: /Library/Frameworks/R.framework/Resources/bin/R CMD INSTALL immunogenViewer StartedAt: 2025-10-20 15:29:07 -0400 (Mon, 20 Oct 2025) EndedAt: 2025-10-20 15:29:29 -0400 (Mon, 20 Oct 2025) EllapsedTime: 22.1 seconds RetCode: 0 Status: OK