Package: immunogenViewer Version: 1.3.1 Command: /Library/Frameworks/R.framework/Resources/bin/R CMD check --install=check:immunogenViewer.install-out.txt --library=/Library/Frameworks/R.framework/Resources/library --no-vignettes --timings immunogenViewer_1.3.1.tar.gz StartedAt: 2025-10-19 23:11:31 -0400 (Sun, 19 Oct 2025) EndedAt: 2025-10-19 23:14:28 -0400 (Sun, 19 Oct 2025) EllapsedTime: 177.3 seconds RetCode: 0 Status: OK CheckDir: immunogenViewer.Rcheck Warnings: 0