Package: immunogenViewer Version: 1.3.1 Command: rm -rf immunogenViewer.buildbin-libdir && mkdir immunogenViewer.buildbin-libdir && /Users/biocbuild/BBS/utils/build-universal.sh immunogenViewer_1.3.1.tar.gz /Library/Frameworks/R.framework/Resources/bin/R immunogenViewer.buildbin-libdir StartedAt: 2025-10-20 03:14:40 -0400 (Mon, 20 Oct 2025) EndedAt: 2025-10-20 03:15:05 -0400 (Mon, 20 Oct 2025) EllapsedTime: 24.5 seconds RetCode: 0 Status: OK PackageFile: immunogenViewer_1.3.1.tgz PackageFileSize: 574.4 KiB