Package: immunogenViewer Version: 1.3.1 Command: /Library/Frameworks/R.framework/Resources/bin/R CMD INSTALL immunogenViewer StartedAt: 2025-10-19 15:09:42 -0400 (Sun, 19 Oct 2025) EndedAt: 2025-10-19 15:09:48 -0400 (Sun, 19 Oct 2025) EllapsedTime: 6.0 seconds RetCode: 0 Status: OK