Package: immunogenViewer Version: 1.3.1 Command: rm -rf immunogenViewer.buildbin-libdir && mkdir immunogenViewer.buildbin-libdir && /Users/biocbuild/BBS/utils/build-universal.sh immunogenViewer_1.3.1.tar.gz /Library/Frameworks/R.framework/Resources/bin/R immunogenViewer.buildbin-libdir StartedAt: 2025-10-19 23:03:16 -0400 (Sun, 19 Oct 2025) EndedAt: 2025-10-19 23:03:24 -0400 (Sun, 19 Oct 2025) EllapsedTime: 7.2 seconds RetCode: 0 Status: OK PackageFile: immunogenViewer_1.3.1.tgz PackageFileSize: 575.1 KiB