Package: immApex Version: 1.3.7 Command: /Library/Frameworks/R.framework/Resources/bin/R CMD INSTALL immApex StartedAt: 2025-10-01 15:24:22 -0400 (Wed, 01 Oct 2025) EndedAt: 2025-10-01 15:25:11 -0400 (Wed, 01 Oct 2025) EllapsedTime: 49.3 seconds RetCode: 0 Status: OK