Package: imcRtools Version: 1.15.5 Command: /home/biocbuild/R/R/bin/R CMD INSTALL imcRtools StartedAt: 2025-10-23 20:43:06 -0000 (Thu, 23 Oct 2025) EndedAt: 2025-10-23 20:44:22 -0000 (Thu, 23 Oct 2025) EllapsedTime: 75.4 seconds RetCode: 0 Status: OK