Package: imcRtools Version: 1.15.5 Command: /Library/Frameworks/R.framework/Resources/bin/R CMD check --install=check:imcRtools.install-out.txt --library=/Library/Frameworks/R.framework/Resources/library --no-vignettes --timings imcRtools_1.15.5.tar.gz StartedAt: 2025-10-27 22:24:51 -0400 (Mon, 27 Oct 2025) EndedAt: 2025-10-27 22:48:29 -0400 (Mon, 27 Oct 2025) EllapsedTime: 1417.8 seconds RetCode: 0 Status: OK CheckDir: imcRtools.Rcheck Warnings: 0