Package: imcRtools Version: 1.15.5 Command: /Library/Frameworks/R.framework/Resources/bin/R CMD build --keep-empty-dirs --no-resave-data imcRtools StartedAt: 2025-10-24 17:29:03 -0400 (Fri, 24 Oct 2025) EndedAt: 2025-10-24 17:34:01 -0400 (Fri, 24 Oct 2025) EllapsedTime: 297.6 seconds RetCode: 0 Status: OK PackageFile: imcRtools_1.15.5.tar.gz PackageFileSize: 10.33 MiB