Package: imcRtools Version: 1.15.5 Command: rm -rf imcRtools.buildbin-libdir && mkdir imcRtools.buildbin-libdir && /Users/biocbuild/BBS/utils/build-universal.sh imcRtools_1.15.5.tar.gz /Library/Frameworks/R.framework/Resources/bin/R imcRtools.buildbin-libdir StartedAt: 2025-10-25 01:45:33 -0400 (Sat, 25 Oct 2025) EndedAt: 2025-10-25 01:46:59 -0400 (Sat, 25 Oct 2025) EllapsedTime: 86.4 seconds RetCode: 0 Status: OK PackageFile: imcRtools_1.15.5.tgz PackageFileSize: 10.16 MiB