Package: illuminaio Version: 0.51.0 Command: /Library/Frameworks/R.framework/Resources/bin/R CMD INSTALL illuminaio StartedAt: 2025-10-16 15:31:23 -0400 (Thu, 16 Oct 2025) EndedAt: 2025-10-16 15:31:36 -0400 (Thu, 16 Oct 2025) EllapsedTime: 13.2 seconds RetCode: 0 Status: OK