Package: illuminaio Version: 0.51.0 Command: /Library/Frameworks/R.framework/Resources/bin/R CMD build --keep-empty-dirs --no-resave-data illuminaio StartedAt: 2025-10-16 18:07:12 -0400 (Thu, 16 Oct 2025) EndedAt: 2025-10-16 18:07:51 -0400 (Thu, 16 Oct 2025) EllapsedTime: 39.0 seconds RetCode: 0 Status: OK PackageFile: illuminaio_0.51.0.tar.gz PackageFileSize: 429.6 KiB