Package: illuminaio Version: 0.51.0 Command: rm -rf illuminaio.buildbin-libdir && mkdir illuminaio.buildbin-libdir && /Users/biocbuild/BBS/utils/build-universal.sh illuminaio_0.51.0.tar.gz /Library/Frameworks/R.framework/Resources/bin/R illuminaio.buildbin-libdir StartedAt: 2025-10-17 03:55:47 -0400 (Fri, 17 Oct 2025) EndedAt: 2025-10-17 03:55:58 -0400 (Fri, 17 Oct 2025) EllapsedTime: 10.4 seconds RetCode: 0 Status: OK PackageFile: illuminaio_0.51.0.tgz PackageFileSize: 448.9 KiB