Package: igvShiny Version: 1.5.0 Command: /home/biocbuild/R/R/bin/R CMD build --keep-empty-dirs --no-resave-data igvShiny StartedAt: 2025-09-30 00:42:43 -0000 (Tue, 30 Sep 2025) EndedAt: 2025-09-30 00:43:11 -0000 (Tue, 30 Sep 2025) EllapsedTime: 28.0 seconds RetCode: 0 Status: OK PackageFile: igvShiny_1.5.0.tar.gz PackageFileSize: 4.244 MiB