Package: igvShiny Version: 1.5.0 Command: rm -rf igvShiny.buildbin-libdir && mkdir igvShiny.buildbin-libdir && F:\biocbuild\bbs-3.22-bioc\R\bin\R.exe CMD INSTALL --build --library=igvShiny.buildbin-libdir igvShiny_1.5.0.tar.gz StartedAt: 2025-08-15 10:29:56 -0400 (Fri, 15 Aug 2025) EndedAt: 2025-08-15 10:30:53 -0400 (Fri, 15 Aug 2025) EllapsedTime: 57.6 seconds RetCode: 0 Status: OK PackageFile: igvShiny_1.5.0.zip PackageFileSize: 4.298 MiB