Package: igvR Version: 1.29.0 Command: /home/biocbuild/R/R/bin/R CMD check --install=check:igvR.install-out.txt --library=/home/biocbuild/R/R/site-library --no-vignettes --timings igvR_1.29.0.tar.gz StartedAt: 2025-10-17 10:12:39 -0000 (Fri, 17 Oct 2025) EndedAt: 2025-10-17 10:18:15 -0000 (Fri, 17 Oct 2025) EllapsedTime: 336.3 seconds RetCode: 0 Status: OK CheckDir: igvR.Rcheck Warnings: 0