Package: igvR Version: 1.29.0 Command: chmod a+r igvR -R && F:\biocbuild\bbs-3.22-bioc\R\bin\R.exe CMD build --keep-empty-dirs --no-resave-data igvR StartedAt: 2025-08-14 20:53:33 -0400 (Thu, 14 Aug 2025) EndedAt: 2025-08-14 20:56:36 -0400 (Thu, 14 Aug 2025) EllapsedTime: 183.9 seconds RetCode: 0 Status: OK PackageFile: igvR_1.29.0.tar.gz PackageFileSize: 8.592 MiB