Package: igvR Version: 1.29.0 Command: rm -rf igvR.buildbin-libdir && mkdir igvR.buildbin-libdir && F:\biocbuild\bbs-3.22-bioc\R\bin\R.exe CMD INSTALL --build --library=igvR.buildbin-libdir igvR_1.29.0.tar.gz StartedAt: 2025-08-15 10:29:54 -0400 (Fri, 15 Aug 2025) EndedAt: 2025-08-15 10:31:42 -0400 (Fri, 15 Aug 2025) EllapsedTime: 108.5 seconds RetCode: 0 Status: OK PackageFile: igvR_1.29.0.zip PackageFileSize: 6.394 MiB