Package: igvR Version: 1.29.0 Command: /Library/Frameworks/R.framework/Resources/bin/R CMD INSTALL igvR StartedAt: 2025-10-23 15:51:35 -0400 (Thu, 23 Oct 2025) EndedAt: 2025-10-23 15:52:24 -0400 (Thu, 23 Oct 2025) EllapsedTime: 48.4 seconds RetCode: 0 Status: OK