Package: igvR Version: 1.29.0 Command: /Library/Frameworks/R.framework/Resources/bin/R CMD check --install=check:igvR.install-out.txt --library=/Library/Frameworks/R.framework/Resources/library --no-vignettes --timings igvR_1.29.0.tar.gz StartedAt: 2025-10-24 21:55:19 -0400 (Fri, 24 Oct 2025) EndedAt: 2025-10-24 22:00:22 -0400 (Fri, 24 Oct 2025) EllapsedTime: 302.9 seconds RetCode: 0 Status: OK CheckDir: igvR.Rcheck Warnings: 0