Package: igvR Version: 1.29.0 Command: /Library/Frameworks/R.framework/Resources/bin/R CMD build --keep-empty-dirs --no-resave-data igvR StartedAt: 2025-10-24 16:46:30 -0400 (Fri, 24 Oct 2025) EndedAt: 2025-10-24 16:46:53 -0400 (Fri, 24 Oct 2025) EllapsedTime: 23.3 seconds RetCode: 0 Status: OK PackageFile: igvR_1.29.0.tar.gz PackageFileSize: 8.593 MiB