Package: idr2d Version: 1.23.1 Command: /home/biocbuild/R/R/bin/R CMD INSTALL idr2d StartedAt: 2025-10-02 20:54:56 -0000 (Thu, 02 Oct 2025) EndedAt: 2025-10-02 20:55:17 -0000 (Thu, 02 Oct 2025) EllapsedTime: 20.7 seconds RetCode: 0 Status: OK