Package: idr2d Version: 1.23.1 Command: /home/biocbuild/R/R/bin/R CMD build --keep-empty-dirs --no-resave-data idr2d StartedAt: 2025-10-03 00:42:05 -0000 (Fri, 03 Oct 2025) EndedAt: 2025-10-03 00:42:53 -0000 (Fri, 03 Oct 2025) EllapsedTime: 48.0 seconds RetCode: 0 Status: OK PackageFile: idr2d_1.23.1.tar.gz PackageFileSize: 1.343 MiB