Package: idr2d Version: 1.23.0 Command: F:\biocbuild\bbs-3.22-bioc\R\bin\R.exe CMD INSTALL idr2d StartedAt: 2025-08-14 15:48:26 -0400 (Thu, 14 Aug 2025) EndedAt: 2025-08-14 15:48:56 -0400 (Thu, 14 Aug 2025) EllapsedTime: 30.5 seconds RetCode: 0 Status: OK