Package: idr2d Version: 1.23.0 Command: chmod a+r idr2d -R && F:\biocbuild\bbs-3.22-bioc\R\bin\R.exe CMD build --keep-empty-dirs --no-resave-data idr2d StartedAt: 2025-08-14 20:53:00 -0400 (Thu, 14 Aug 2025) EndedAt: 2025-08-14 20:53:44 -0400 (Thu, 14 Aug 2025) EllapsedTime: 44.0 seconds RetCode: 0 Status: OK PackageFile: idr2d_1.23.0.tar.gz PackageFileSize: 1.216 MiB