Package: idpr Version: 1.19.0 Command: /Library/Frameworks/R.framework/Resources/bin/R CMD INSTALL idpr StartedAt: 2025-10-16 15:55:14 -0400 (Thu, 16 Oct 2025) EndedAt: 2025-10-16 15:55:26 -0400 (Thu, 16 Oct 2025) EllapsedTime: 11.6 seconds RetCode: 0 Status: OK