Package: idpr Version: 1.19.0 Command: /Library/Frameworks/R.framework/Resources/bin/R CMD check --install=check:idpr.install-out.txt --library=/Library/Frameworks/R.framework/Resources/library --no-vignettes --timings idpr_1.19.0.tar.gz StartedAt: 2025-10-17 22:58:57 -0400 (Fri, 17 Oct 2025) EndedAt: 2025-10-17 23:00:22 -0400 (Fri, 17 Oct 2025) EllapsedTime: 85.8 seconds RetCode: 0 Status: OK CheckDir: idpr.Rcheck Warnings: 0