Package: idpr Version: 1.19.0 Command: /Library/Frameworks/R.framework/Resources/bin/R CMD build --keep-empty-dirs --no-resave-data idpr StartedAt: 2025-10-16 18:06:32 -0400 (Thu, 16 Oct 2025) EndedAt: 2025-10-16 18:08:27 -0400 (Thu, 16 Oct 2025) EllapsedTime: 115.1 seconds RetCode: 0 Status: OK PackageFile: idpr_1.19.0.tar.gz PackageFileSize: 3.611 MiB