Package: idiogram Version: 1.85.0 Command: /home/biocbuild/bbs-3.22-bioc/R/bin/R CMD build --keep-empty-dirs --no-resave-data --md5 idiogram StartedAt: 2025-10-22 18:12:47 -0400 (Wed, 22 Oct 2025) EndedAt: 2025-10-22 18:13:10 -0400 (Wed, 22 Oct 2025) EllapsedTime: 23.0 seconds RetCode: 0 Status: OK PackageFile: idiogram_1.85.0.tar.gz PackageFileSize: 1.795 MiB