Package: idiogram Version: 1.85.0 Command: /Library/Frameworks/R.framework/Resources/bin/R CMD INSTALL idiogram StartedAt: 2025-10-22 15:26:46 -0400 (Wed, 22 Oct 2025) EndedAt: 2025-10-22 15:27:09 -0400 (Wed, 22 Oct 2025) EllapsedTime: 22.3 seconds RetCode: 0 Status: OK